BEGIN:VCALENDAR
VERSION:2.0
PRODID:-//wp-events-plugin.com//7.2.3.1//EN
BEGIN:VEVENT
UID:98@animagique.fr
DTSTART:20220913T193000Z
DTEND:20220913T223000Z
DTSTAMP:20220816T094841Z
URL:https://animagique.fr/evenements/assemblee-generale-2022-2023-et-reuni
 on/
SUMMARY:Assemblée Générale 2022/2023 et réunion
DESCRIPTION:Assemblée Générale 2022/2023\net réunion (thème Magie de s
 cène)\nLieu:\nMaison des syndicats\, Salle A\, 20h30\n5 place de la gare 
 de l'état\n44000 île de Nantes\nObjet :\nLes membres de l'association AN
 IMA se réunissent en Assemblée Générale le 13 septembre 2022 20h30\nà
  Nantes\, pour élire les membres du bureau\, clore les comptes 2021/2022\
 , voter les nouvelles résolutions pour \nl'année 2022/2023.\nL'Assembl
 ée Générale est présidée par M. SALONI Claude en qualité de\nprésid
 ent sortant et M. JOURDAIN Paul en est nommé Secrétaire sortant.\nSi des
  membres le souhaitent ils pourront se présenter à ces postes \nUn vote
  sera établi pour le choix du président de séance et du secrétaire de 
 séance.\nIl sera établi une feuille d'émargement des membres présents 
 et représentés.\nSi plus de soixante quinze pour cent pour cent des memb
 res à jour de cotisation sont présents ou représentés\, le\nPrésident
  déclarera alors que l'Assemblée est régulièrement constituée et peut
  valablement\ndélibérer.\n\nLe Président rappelle l'ordre du jour qui e
 st le suivant : \nsolde compte 2021/2022\, élections des membres du burea
 u\, vote des tarifs 2022/2023\, bibliothèque\, conférences.\nLe Préside
 nt dépose sur le bureau de l'Assemblée tous les documents nécessaires a
 u\nvote des différents points. Un débat s'ouvre entre les participants 
 à cette Assemblée\nGénérale et un échange d'idées s'instaure.\nBilan
 :  2021/2022 par Claude SALONI Président sortant.\nComptes\; 2021/2022 p
 ar Romain GUICHON trésorier sortant.\nIl sera procédé au vote de Quitu
 s sur les bilans et comptes 2021/2022\nPlus personne ne demandant la parol
 e\, le Président mettra aux voix les différentes\nrésolutions à l'ordr
 e du jour :\nPremière résolution : Élection des membres du bureau\nLes 
 candidature au bureau sont :\nPrésident : Claude SALONI (sortant)\nSecré
 taire : Paul JOURDAIN (sortant)\nTrésorier:  Romain GUICHON (sortant)\n
 Et suite aux candidatures déposées préalablement à la réunion de l'As
 semblée\nGénérale\, il sera procédé à l'élection des nouveaux membr
 es du bureau\nDeuxième résolution : Fixation du montant de la cotisation
  (60€ actuellement)\nNOTA: vu les problèmes de trésorerie seulement 3 
 conférences par an seront entièrement gratuites\nUn prix de 15 Euros ser
 a demandé aux membres pour les conférences supplémentaires\nLe prix des
  conférences pour les extérieurs sera de 25€  et 20€ pour les clubs
  amis\nTroisième résolution : Bibliothèque vidéo et pdf en ligne.\ncho
 ix du fonctionnement et votre du budget.\nQuatrième résolution: Choix de
 s intervenant en conférences\nLa réunion sera close après tous les vote
 s\n&nbsp\;\n&nbsp\;
CATEGORIES:reunions
LOCATION:Maison des syndicats\, 5 place de l'état\, Nantes\, 44000\, Franc
 e
GEO:47.2042282;-1.5596030000000383
X-APPLE-STRUCTURED-LOCATION;VALUE=URI;X-ADDRESS=5 place de l'état\, Nantes
 \, 44000\, France;X-APPLE-RADIUS=100;X-TITLE=Maison des syndicats:geo:47.2
 042282,-1.5596030000000383
END:VEVENT
END:VCALENDAR