BEGIN:VCALENDAR
VERSION:2.0
PRODID:-//wp-events-plugin.com//7.2.3.1//EN
BEGIN:VEVENT
UID:14@animagique.fr
DTSTART:20190525T130000Z
DTEND:20190525T170000Z
DTSTAMP:20210129T075019Z
URL:https://animagique.fr/evenements/close-up-a-st-sebastien/
SUMMARY:Close-up à St Sebastien
DESCRIPTION:Bonjour\,\n\nPour faire rentrer de l'argent dans l'association 
 et aussi pour permettre à nos membres de rencontrer du vrai public\, une 
 association nous sollicite pour animer sa fête des 30 ans d’existence p
 our le samedi 25 mai 2019 de 14h à 18h.\nIl y aura un poste fixe avec une
  table et d'autres magiciens pourront déambuler dans la foule pour faire 
 du close-up.\nLes volontaires ne seront pas rétribués et l'association n
 ous versera un petit budget\, mais cela sera une bonne expérience pour no
 s membres et fera rentrer un peu d'argent.\nDonc si vous souhaitez pratiqu
 er "in real" c'est l'occasion de faire une bonne action....\n\nLe public s
 era du type familial (parents + enfants)  à  St Sebastien 44230\n\nMerc
 i d'avance pour le club.
CATEGORIES:spectacles
LOCATION:St Sebastien\,  centre socio-culturel de la Fontaine\, St Sébasti
 en sur loire\, 44230\, France
GEO:47.2037825;-1.4877407999999832
X-APPLE-STRUCTURED-LOCATION;VALUE=URI;X-ADDRESS= centre socio-culturel de l
 a Fontaine\, St Sébastien sur loire\, 44230\, France;X-APPLE-RADIUS=100;X
 -TITLE=St Sebastien:geo:47.2037825,-1.4877407999999832
END:VEVENT
END:VCALENDAR