BEGIN:VCALENDAR
VERSION:2.0
PRODID:-//wp-events-plugin.com//7.2.3.1//EN
BEGIN:VEVENT
UID:145@animagique.fr
DTSTART:20250405T103000Z
DTEND:20250405T173000Z
DTSTAMP:20250226T094327Z
URL:https://animagique.fr/evenements/conference-atelier-gabriel-werlen/
SUMMARY:Conférence + Atelier Gabriel Werlen
DESCRIPTION:Au cours de cette conférence\, Gabriel partagera sa vision du 
 mentalisme à travers\ndes routines qui ont marqué son parcours professio
 nnel.\nAu fil des découvertes\, il vous initiera au Green Neck System pui
 s au principe de\nSchrödinger qu’il a développé pour permettre des ef
 fets d’une grande pureté et\nsimplicité.
ATTACH;FMTTYPE=image/jpeg:https://animagique.fr/wp-content/uploads/2025/01
 /Gabriel-Werlen-e1740563356303.webp
CATEGORIES:Atelier,conférence
LOCATION:Manu\, 10bis boulevard de Stalingrad\, Nantes\, International\, 44
 00\, France
GEO:47.21945119999999;-1.535393900000031
X-APPLE-STRUCTURED-LOCATION;VALUE=URI;X-ADDRESS=10bis boulevard de Stalingr
 ad\, Nantes\, International\, 4400\, France;X-APPLE-RADIUS=100;X-TITLE=Man
 u:geo:47.21945119999999,-1.535393900000031
END:VEVENT
END:VCALENDAR