BEGIN:VCALENDAR
VERSION:2.0
PRODID:-//wp-events-plugin.com//7.2.3.1//EN
BEGIN:VEVENT
UID:1@animagique.fr
DTSTART:20181109T190000Z
DTEND:20181109T220000Z
DTSTAMP:20210129T080055Z
URL:https://animagique.fr/evenements/conference-atelier-jeu-multi-effet/
SUMMARY:Conférence Jeu Multi-Effet
DESCRIPTION:Le Vendredi 09 novembre 2018 de 20H à 22H30.\nCette conférenc
 e/atelier est ouverte aux magiciens de tous niveaux désirant découvrir o
 u approfondir l’utilisation du jeu multieffet.\n\nParticipation aux frai
 s : 20 € / 8€ membres (jeu)\n\nLe lieu est : Salle Maison des syndic
 ats salle C 2eme étage sur l'Ile de Nantes 44000 Nantes\n\nUn jeu multief
 fet sera offert à chaque participant ayant réservé\, pour pouvoir mettr
 e en œuvre immédiatement l’outil.\n\nAfin de gérer le nombre de parti
 cipants\, et donc de jeux à préparer\, merci de réservé ici\, Attentio
 n places limitées\n\nPour votre confort\, apportez si possible un tapis d
 e carte pour la partie atelier…\n\nLe jeu multieffet a été brillamment
  remis en avant par le travail de Vincent Hedan.\n\nCela fait pour ma part
  des années que j’ai toujours un jeu multieffet sur moi\, et que je che
 rche des applications à ce sympathique matériel. Et j’en trouve toujou
 rs de nouvelles…\n\nCet outil particulièrement puissant et facile d’u
 tilisation demande cependant un peu de pratique pour être utilisé pleine
 ment\, et certaines méthodes demandent du temps pour être trouvées : J
 e vous ferais donc profiter de mon expérience avec ce jeu\, et vous pourr
 ez vous y entraîner sur votre propre jeu\, qui vous sera fournis.\n\nNous
  verrons :\n\nDes démonstrations de tours utilisant le multieffet\, en ma
 gie\, magie contée\, mentalisme… \n\nCes tours seront expliqués et pra
 tiqués dans la suite de la conférence/atelier.\n\n 	l’explication du p
 rincipe multieffet.\n 	La fabrication du jeu. \n 	L’utilisation de base
  : propriété multieffet\, mélanges\, manipulation du jeu\, etc.\n 	Les
  différentes manières de sélectionner une carte\, et les différentes m
 éthodes utilisables dans chaque cas pour se servir de la fonction multief
 fet.\n 	Des techniques plus avancées et des jeux multieffet inhabituels\,
  permettant des choses encore plus magiques.\n\n&nbsp\;\n\nLa conférence/
 atelier sera suivie d’un bœuf général entre magiciens… \nL’animat
 eur : Gilbus\n\n Je pratique l’illusionnisme depuis de nombreuses ann
 ées.\nDepuis plus de dix ans\, j’utilise le jeu multieffet en magie et 
 magie contée. Je reste bien sûr à votre disposition pour toute demande 
 particulière ou explication sur la conférence.\nGilbus\n&nbsp\;
ATTACH;FMTTYPE=image/jpeg:https://animagique.fr/wp-content/uploads/2018/10
 /MultiEffet_0001-e1538992771563.jpg
CATEGORIES:conférence
LOCATION:Maison des syndicats\, 5 place de l'état\, Nantes\, 44000\, Franc
 e
GEO:47.2042282;-1.5596030000000383
X-APPLE-STRUCTURED-LOCATION;VALUE=URI;X-ADDRESS=5 place de l'état\, Nantes
 \, 44000\, France;X-APPLE-RADIUS=100;X-TITLE=Maison des syndicats:geo:47.2
 042282,-1.5596030000000383
END:VEVENT
END:VCALENDAR