BEGIN:VCALENDAR
VERSION:2.0
PRODID:-//wp-events-plugin.com//7.2.3.1//EN
BEGIN:VEVENT
UID:12@animagique.fr
DTSTART:20190410T193000Z
DTEND:20190410T223000Z
DTSTAMP:20210328T071038Z
URL:https://animagique.fr/evenements/conference-axel-hecklau/
SUMMARY:Conférence Axel Hecklau
DESCRIPTION:Conférence avec CLOSE-UP MONTHLY\nau Château de la Galissonn
 ière 44330 Le Palet\, le 10 Avril 2019\n\nle créateur de Easy Cube\n\nNo
 s amis de Close-Up Monthly proposent une conférence avec Axel Hecklau ce 
 magicien Allemand créateur de nombreux tours: Easy cube\, Just a cup\, De
 stiny\, etc….\nVice champion du monde FISM 2018\, champion d’Europe 20
 17 à Blackpool 
CATEGORIES:conférence
LOCATION:Château de la Galissonnière\, La Galissonnière\, Le Palet\, 443
 30\, France
GEO:47.139777;-1.3371889999999667
X-APPLE-STRUCTURED-LOCATION;VALUE=URI;X-ADDRESS=La Galissonnière\, Le Pale
 t\, 44330\, France;X-APPLE-RADIUS=100;X-TITLE=Château de la Galissonnièr
 e:geo:47.139777,-1.3371889999999667
END:VEVENT
END:VCALENDAR