BEGIN:VCALENDAR
VERSION:2.0
PRODID:-//wp-events-plugin.com//7.2.3.1//EN
BEGIN:VEVENT
UID:140@animagique.fr
DTSTART:20241122T210000Z
DTEND:20241122T233000Z
DTSTAMP:20241106T072041Z
URL:https://animagique.fr/evenements/conference-benoit-campana/
SUMMARY:Conférence Benoit Campana
DESCRIPTION:\nConférence à la Manufacture\nLe 22 novembre 21h\nSujet: Men
 talisme\nLieu Salle Réunion B étage 1 La Manu\nSituée 10 bis boulevard 
 de Stalingrad\n44000 Nantes\nBenoit CAMPANA est magicien\, mentaliste &amp
 \; auteur.\nAprès PNL et magie puis Hypnose\, PNL et magie\, il revient a
 vec son dernier ouvrage Mémoire(s).\nSpécialisé en événements d’ent
 reprises\, il conçoit des effets sur-mesure en magie\, magie digitale et 
 mentalisme.\nDepuis plusieurs années\, il crée des effets de mentalisme 
 avec pour principal outil\, des compétences acquises\, tels que la mémoi
 re et les techniques de communication efficace.\nBenoit CAMPANA nous déta
 ille à travers cette conférence / spectacle son travail\, ses techniques
 \, secrets\, réflexions… et plus encore !\nBook-test\, mémoire\, dans 
 quelle main\, coïncidence\, effets de close-up impromptu\, magie numériq
 ue…\nAu sommaire de cette 2e conférence\n\n	Lecture de pensée d’apr
 ès Ted Annemann\n	Calcul prodigieux\n	Prédictions\n	Les choix dont vous 
 êtes le héros.\n	Effets en close-up\, impromptu et sur scène en opener\
 n	Scotch and soda impromptu avec deux pièces empruntés avec un final ou 
 la pièce du spectateur se change en or\n	Dans quelle main (Which hand)\n
 	Divination numéro de série billet de banque\n	Chapelet et ACAAN\n	Effet
  de pièces (les pièces sont offertes pour les participants présents)\n	
 Double écriture\n	Temps d’avance\n	Cold Reading\n	Apprendre un un chape
 let en moins de 20 minutes (méthode en PDF offerte pour les participants 
 présents)\n	Book test avec un dictionnaire de poche (méthode offerte un
 iquement pour les participants présents)\n	Cartomagie : des classiques re
 visités\n\nPayer moins cher en achetant à l'avance
ATTACH;FMTTYPE=image/jpeg:https://animagique.fr/wp-content/uploads/2024/09
 /img-0082-copie_3_280804-166506770538503.webp
CATEGORIES:conférence
LOCATION:Manu\, 10bis boulevard de Stalingrad\, Nantes\, International\, 44
 00\, France
GEO:47.21945119999999;-1.535393900000031
X-APPLE-STRUCTURED-LOCATION;VALUE=URI;X-ADDRESS=10bis boulevard de Stalingr
 ad\, Nantes\, International\, 4400\, France;X-APPLE-RADIUS=100;X-TITLE=Man
 u:geo:47.21945119999999,-1.535393900000031
END:VEVENT
END:VCALENDAR