BEGIN:VCALENDAR
VERSION:2.0
PRODID:-//wp-events-plugin.com//7.2.3.1//EN
BEGIN:VEVENT
UID:2@animagique.fr
DTSTART:20190118T193000Z
DTEND:20190118T223000Z
DTSTAMP:20210129T080107Z
URL:https://animagique.fr/evenements/conference-boris-wild/
SUMMARY:Conférence Boris Wild
DESCRIPTION:\n\nNOUVELLE CONFERENCE\nSENSATIONS\nTarif : 20€ (gratuite
  pour les membres de l’association)\nUne consommation offerte\n\nVous ai
 mez la magie quand elle est simple\,\ndirecte et efficace ?\n\nVous aimez 
 être bluffés par des effets impossibles\nqui laissent un impact fort sur
  le public ?\n\nVous aimez les routines qui créent une émotion\nmagique 
 chez vos spectateurs ? Alors la nouvelle\nconférence de Boris Wild est fa
 ite pour vous !\n\nSENSATIONS va vous permettre de réaliser des prédicti
 ons d’une\nnetteté incroyable\, des coïncidences tout simplement impos
 sibles\net même de retrouver une carte choisie sans jamais toucher le jeu
  !\n\nUne conférence unique à ne pas rater et l’occasion parfaite\nde 
 découvrir les dernières créations d’un lauréat FISM\nau cours d’un
 e soirée riche en sensations magiques…\n\nrevisités par un lauréat FI
 SM\n\nUne conférence incontournable pour tous les magiciens de close-up.\
 n\nBiographie de Boris Wild\n\nBoris Wild est l’un des magiciens frança
 is de close-up les plus réputés au monde. Son approche originale et cré
 ative de la magie lui permet de se produire dans les lieux les plus presti
 gieux comme le célèbre “Magic Castle” à Hollywood où il a déjà p
 résenté plus de 200 shows.\n\nIl a remporté le Grand Prix aux Championn
 ats de France FFAP\, le Prix Piaget aux Monte Carlo Magic Stars et a été
  primé aux Championnats du Monde FISM. Il a également été récompensé
  du Merlin Award de “La Magie de Close-up la plus Originale” par l’I
 MS.\n\nIl a fait partie de l’exposition photo “Les Plus Grands Magicie
 ns du Monde” à Stockholm et a été Invité d’Honneur au Congrès FFF
 F.\n\nIl est apparu en couverture de “The Linking Ring” et de GENII ai
 nsi que du magazine vidéo REEL MAGIC suivant David Copperfield.\n\nIl a 
 été Président du Jury de Close-Up aux Championnats du Monde FISM à Pé
 kin et a reçu la Médaille de Bronze du Rayonnement Culturel de La Renais
 sance Française ainsi que la Médaille d’argent Robert-Houdin.\n\n“Fo
 rmidable conférence. Une des meilleures que nous ayons eues\n(Marvin Berg
 las\, Vice-Président du Magic Circle à Londres)\n\nLa magie était tout 
 simplement incroyable”\n(Derek O.)\n\n
ATTACH;FMTTYPE=image/jpeg:https://animagique.fr/wp-content/uploads/2018/10
 /BorisWild.jpg
CATEGORIES:conférence
LOCATION:Maison des syndicats\, 5 place de l'état\, Nantes\, 44000\, Franc
 e
GEO:47.2042282;-1.5596030000000383
X-APPLE-STRUCTURED-LOCATION;VALUE=URI;X-ADDRESS=5 place de l'état\, Nantes
 \, 44000\, France;X-APPLE-RADIUS=100;X-TITLE=Maison des syndicats:geo:47.2
 042282,-1.5596030000000383
END:VEVENT
END:VCALENDAR