BEGIN:VCALENDAR
VERSION:2.0
PRODID:-//wp-events-plugin.com//7.2.3.1//EN
BEGIN:VEVENT
UID:90@animagique.fr
DTSTART:20220512T203000Z
DTEND:20220512T233000Z
DTSTAMP:20220510T061352Z
URL:https://animagique.fr/evenements/conference-dani-daortiz/
SUMMARY:Conférence Dani DAORTIZ
DESCRIPTION:génie espagnol de la cartomagie\, présentera sa conférence l
 e jeudi 12 mai à 21 heures\nUne expérience fabuleuse qu’aucun magicien
  ne devrait manquer\, les routines de Dani sont d’une approche non conve
 ntionnelle\, présentées avec humour\, dans un « chaos organisé » où 
 tout « semble » improvisé… de l’Art Monsieur !
ATTACH;FMTTYPE=image/jpeg:https://animagique.fr/wp-content/uploads/2022/01
 /DaniDaortiz2.jpg
CATEGORIES:conférence
LOCATION:Maison des syndicats\, 5 place de la gare de l'état\, Nantes\, 44
 200\, France
GEO:47.204228;-1.559603
X-APPLE-STRUCTURED-LOCATION;VALUE=URI;X-ADDRESS=5 place de la gare de l'ét
 at\, Nantes\, 44200\, France;X-APPLE-RADIUS=100;X-TITLE=Maison des syndica
 ts:geo:47.204228,-1.559603
END:VEVENT
END:VCALENDAR