BEGIN:VCALENDAR
VERSION:2.0
PRODID:-//wp-events-plugin.com//7.2.3.1//EN
BEGIN:VEVENT
UID:142@animagique.fr
DTSTART:20250227T210000Z
DTEND:20250227T233000Z
DTSTAMP:20241127T171942Z
URL:https://animagique.fr/evenements/conference-de-mario-lopez/
SUMMARY:conférence de Mario Lopez
DESCRIPTION:Mario Lopez\, champion du monde FISM\, rend magique tout ce qu
 ’il peut toucher.\nUn magicien au style unique et à l’humour parfaite
 ment calibré. Il remet en question les vieux principes magiques et dével
 oppe les siens \; ce qui rend les effets classiques impossibles aux yeux d
 es spectateurs.\nSa conférence\, unique et originale vous ouvrira les por
 tes d’un univers inexploré. De la magie avec des objets du quotidien qu
 i prennent une toute autre dimension auprès du public.
ATTACH;FMTTYPE=image/jpeg:https://animagique.fr/wp-content/uploads/2024/06
 /Cigarettes.jpg
CATEGORIES:conférence
LOCATION:Maison des syndicats\, 5 place de l'état\, Nantes\, 44000\, Franc
 e
GEO:47.2042282;-1.5596030000000383
X-APPLE-STRUCTURED-LOCATION;VALUE=URI;X-ADDRESS=5 place de l'état\, Nantes
 \, 44000\, France;X-APPLE-RADIUS=100;X-TITLE=Maison des syndicats:geo:47.2
 042282,-1.5596030000000383
END:VEVENT
END:VCALENDAR