BEGIN:VCALENDAR
VERSION:2.0
PRODID:-//wp-events-plugin.com//7.2.3.1//EN
BEGIN:VEVENT
UID:36@animagique.fr
DTSTART:20191125T200000Z
DTEND:20191125T223000Z
DTSTAMP:20210129T080305Z
URL:https://animagique.fr/evenements/conference-mentaliste-chris-rawlins-2
 5-11-19/
SUMMARY:Conférence mentaliste Chris Rawlins 25/11/19
DESCRIPTION:Conférence Salle E étage 1 \nMaison des Syndicats à 21h00\n
  5 place de la Gare de l'Etat \n44200 Île de Nantes\n\nChris vous prése
 ntera les meilleures routines de mentalisme de son répertoire\, qu’il
  peaufine depuis de nombreuses années en conditions réelles\, en obtenan
 t autant de succès auprès du public profane qu’auprès des magiciens e
 t mentalistes les plus chevronnés. Bien souvent\, ce n’est pas le menta
 liste mais le spectateur lui-même qui devine ou prédit des nombres ou de
 s objets !\n\nContenu:\n\n	Garde de Crédit : Un jeu psychologique avec 
 deux enveloppes. Le spectateur scelle sa carte de crédit dans une envelop
 pe \; une fausse carte est scellée dans une seconde enveloppe. Les envel
 oppes sont mélangées et le mentaliste est capable d’influencer le spec
 tateur afin qu’il retrouve sa carte de crédit ! En climax\, le spectat
 eur sort sa carte de l’enveloppe mais la garde cachée\, en se concentra
 nt sur les quatre premiers chiffres de son numéro de carte. Le mentaliste
  les devine !\n	Ma version d’un classique : Voici une excellente vers
 ion du "Chair test" classique\, dans des conditions incroyablement honnê
 tes et avec un climax surprenant. Extrêmement efficace et direct !\n	L
 ’approche audacieuse : Voici un aperçu de la réflexion de Chris et de
  sa théorie.\n	Hack Impliquez tous les membres du public grâce à ce te
 st du journal à la fois clean\, simple et très bluffant.\n	Flutter Vous
  révélez une pensée de manière originale et intéressante\, ce qui div
 ertira et impressionnera fortement vos spectateurs.\n	UYOW Comment rendre 
 un portefeuille normal en portefeuille a peek\n	3S1D Les spectateurs dessi
 nent une image et la complète à plusieurs et enfin lui trouvent un titre
 \, Chris annonce ce titre et le contenu de l'image.\n	Détecteur de menson
 ges\n
CATEGORIES:conférence
LOCATION:Maison des syndicats\, 5 place de la gare de l'état\, Nantes\, 44
 200\, France
X-APPLE-STRUCTURED-LOCATION;VALUE=URI;X-ADDRESS=5 place de la gare de l'ét
 at\, Nantes\, 44200\, France;X-APPLE-RADIUS=100;X-TITLE=Maison des syndica
 ts:geo:0,0
END:VEVENT
END:VCALENDAR