BEGIN:VCALENDAR
VERSION:2.0
PRODID:-//wp-events-plugin.com//7.2.3.1//EN
BEGIN:VEVENT
UID:147@animagique.fr
DTSTART:20250513T210000Z
DTEND:20250513T233000Z
DTSTAMP:20250428T082645Z
URL:https://animagique.fr/evenements/conference-paul-romhany/
SUMMARY:Conférence Paul Romhany
DESCRIPTION:AnimA est fier de pouvoir vous proposer Paul Romhany pour sa
  conférence européenne pas tout à fait comme les autres !…\nL’un de
 s magiciens/créateurs les plus prolifiques de la magie aujourd’hui !\nA
 uteur de plus de 60 livres\, rédacteur en chef du magazine Vanish et in
 venteur d’innombrables effets\, Paul est décrit comme l’un des artist
 es les plus divertissants et les plus innovants au monde.\nPaul s’est pr
 oduit dans plus de 125 pays\, a passé des décennies sur des bateaux de c
 roisière et a travaillé à la télévision et au théâtre dans le monde
  entier. Il partagera des effets et des mouvements qui font partis de son 
 célèbre personnage de Charlie Chaplin !\nCette conférence est un mélan
 ge de stand-up\, de scène\, de close-up et de mentalisme. Il y en a pour 
 tous les styles d’interprétation. Il réalisera et partagera son numér
 o de comédie magique muette qui l’a emmenée dans le monde entier penda
 nt plus de 35 années.\nVous apprendrez quelques-unes de ses routines de p
 rédilection issues de son numéro primé à maintes reprises.\nSi vous ê
 tes un artiste sérieux et que vous cherchez à améliorer la qualité de 
 votre spectacle\, il y a une grande diversité d’effets magiques\, que c
 e soit pour du close-up\, à la table d’un restaurant jusqu’à un gran
 d théâtre ou sur un bateau de croisière !\nNe ratez pas son passage !\n
 Remise si achat en avance\nPaypal (tresorier@animagique.fr) ou Boutique\n2
 0€ au lieu de 25€ voir Code Promo associations amies\n25€ au lieu de
  30€ Extérieurs
ATTACH;FMTTYPE=image/jpeg:https://animagique.fr/wp-content/uploads/2025/04
 /Paul-1920-1080.jpg
CATEGORIES:conférence
LOCATION:Maison des syndicats\, 5 place de l'état\, Nantes\, 44000\, Franc
 e
GEO:47.2042282;-1.5596030000000383
X-APPLE-STRUCTURED-LOCATION;VALUE=URI;X-ADDRESS=5 place de l'état\, Nantes
 \, 44000\, France;X-APPLE-RADIUS=100;X-TITLE=Maison des syndicats:geo:47.2
 042282,-1.5596030000000383
END:VEVENT
END:VCALENDAR