BEGIN:VCALENDAR
VERSION:2.0
PRODID:-//wp-events-plugin.com//7.2.3.1//EN
BEGIN:VEVENT
UID:158@animagique.fr
DTSTART:20260131T143000Z
DTEND:20260131T170000Z
DTSTAMP:20260116T142530Z
URL:https://animagique.fr/evenements/conference-radek-hoffman/
SUMMARY:Conférence RADEK HOFFMAN
DESCRIPTION:ATTENTION Changement Adresse\nSalle A Maison des syndicats\n5 p
 lace de la gare de l'etat\n44000 Nantes (île de Nantes)\n&nbsp\;\nL’un 
 des magiciens/créateurs les plus prolifiques dans le mentalisme contempor
 ain ! \nNous sommes particulièrement fiers de pouvoir vous proposer Rade
 k HOFFMAN pour sa conférence\nEuropéenne pas tout à fait comme les autr
 es !...\nLa plupart des conférences sur le mentalisme ont tendance à se 
 concentrer sur des idées abstraites ou\ndes « révélations de pensées 
 » répétitives. Beyond Mentalism propose une approche radicalement\ndiff
 érente. Radek propose une conférence avec des méthodes performantes \, 
 percutantes et facile à\nmettre en œuvre. Des routines non seulement pra
 tiques\, mais aussi visuellement saisissantes et\ninoubliables.\nChaque ef
 fet présenté a été testé en situation réelle et perfectionné pour u
 n impact maximal. Il ne s'agit\npas de numéros « théoriques »\, mais d
 e routines éprouvées et efficaces\, conçues pour captiver\nl'attention\
 , la maintenir et laisser une impression durable auprés des spectateurs.\
 nSi vous recherchez des méthodes et solutions pratiques\, visuellement im
 pressionnantes et qui\nenrichiront assurément votre répertoire\, alors B
 eyond Mentalism est fait pour vous.\nLe véritable mentalisme commence là
  où les autres s'arrêtent \; et c'est là que cette conférence vous\nem
 mène.\nUn homme de mystère\, un illusionniste\, un mentaliste… Quel q
 ue soit l’angle sous lequel on le considère\, il est incontestablement
  un maître dans son domaine. Fort de 18 ans d’expérience\, Radek a per
 fectionné l’art de la magie et est prêt à donner à votre événement
  une dimension inédite.\n​Si vous recherchez une attraction spectaculai
 re qui émerveillera vos invités et fera de votre événement un moment i
 noubliable\, vous êtes au bon endroit. Radek se spécialise dans la créa
 tion de performances exceptionnelles\, conçues sur mesure pour répondre 
 aux besoins spécifiques de chaque client.\nAu programme de la conférence
 \n(tous les effets sont expliqués en détail)\nImagination Test\nUne dupl
 ication de dessin organique et puissante… avec un final totalement inatt
 endu.\nLe spectateur pense librement à un objet\, vous le reproduisez… 
 puis l’image prend vie visuellement.\n👉 Un classique revisité avec u
 n climax choquant et mémorable.\n👉 Parfait en ouverture : direct\, rap
 ide\, surprenant.\nManipulation\nUn mélange audacieux entre Book Test et 
 Chair Test.\nLe spectateur prend une série de décisions totalement libre
 s… qui mènent à une prédiction impossible.\n✔️ Ultra engageant\n
 ✔️ Méthode ingénieuse\n✔️ Final inattendu supplémentaire\n👉 
 Idéal pour la scène et le salon.\nCrime Scene\nUne routine de type meurt
 re mystérieux… sans enveloppes marquées\, sans cartes truquées\, sans
  technologie.\nLe public choisit :\nune victime\nun témoin\nun meurtrier\
 n👉 Le mentaliste n’est pas présent pendant les choix.\n👉 Et pourt
 ant\, il révèle :\nqui est qui\nle lieu du crime\nl’heure précise\nl
 ’arme utilisée\nBasée sur un principe totalement nouveau\, développé
  par Radek.\nUltimate Card Calling\nUne version dévastatrice du Card Call
 ing.\nLe spectateur choisit librement plusieurs cartes\, les mélange…\n
 Vous annoncez une à une les cartes qu’il pense avoir choisies.\n✔️ 
 Pas de mémorisation\n✔️ Pas de switch\n✔️ Pas de marquage\n✔️
  Extrêmement facile à exécuter\n👉 Une illusion de lecture de pensée
  ultra convaincante.\nEXTRA SENSORY\nAvec des cartes ESP\nL'artiste insist
 e sur le fait que si le volontaire fait confiance à son intuition\, sa su
 pposition sera correcte. Tandis que le\nvolontaire garde les yeux fermés\
 , l'artiste montre au public un grand bloc-notes vierge et un marqueur. En
 suite\, ils\nclaquent des doigts pour que le volontaire ouvre les yeux et 
 remette le bloc-notes et le marqueur. Le spectateur dessine\nun symbole sa
 ns le montrer. Le mentaliste demande au premier spectateur de révéler le
  symbole auquel il pensait. Il\nrépond qu'il s'agissait d'un carré. Le v
 olontaire sur scène présente alors le bloc-notes qui affiche exactement 
 le même\nsymbole.\nIMPORTANT des notes de conférences en Français (trad
 uites et imprimées par votre serviteur) seront disponibles.
ATTACH;FMTTYPE=image/jpeg:https://animagique.fr/wp-content/uploads/2025/12
 /shrejjtj_edited.avif
CATEGORIES:conférence
LOCATION:Maison des syndicats\, 5 place de l'état\, Nantes\, 44000\, Franc
 e
GEO:47.2042282;-1.5596030000000383
X-APPLE-STRUCTURED-LOCATION;VALUE=URI;X-ADDRESS=5 place de l'état\, Nantes
 \, 44000\, France;X-APPLE-RADIUS=100;X-TITLE=Maison des syndicats:geo:47.2
 042282,-1.5596030000000383
END:VEVENT
END:VCALENDAR