BEGIN:VCALENDAR
VERSION:2.0
PRODID:-//wp-events-plugin.com//7.2.3.1//EN
BEGIN:VEVENT
UID:38@animagique.fr
DTSTART:20200125T130000Z
DTEND:20200125T160000Z
DTSTAMP:20200104T102251Z
URL:https://animagique.fr/evenements/echanges-magiques-et-conf-teddy-rex/
SUMMARY:Échanges magiques et conf Teddy Rex
DESCRIPTION:Maison des syndicats\n5 place de la gare de l'état\n44000 île
  de Nantes\nsalle B et C\n&nbsp\;\nÉCHANGES MAGIQUES\nVenez avec vos tiro
 irs magiques pour échanger ou monnayer vos fonds de tiroirs\nFaites profi
 ter d'autres magiciens des miracles qui dorment au fond de vos tiroirs\, \
 nexpliquez et faites des démonstrations des bijoux \ndont vous n'avez plu
 s l'utilité.\nUn mètre de table est réservé aux membres d'AnimA (pour 
 ceux qui en font la demande)\,\nsurtout ne pas oublier de s'inscrire ci-de
 ssous.\nPour ceux qui ont beaucoup de tiroirs\, et pour les extérieurs qu
 i souhaitent participer \nle mètre supplémentaire est payant (5€)\n&nb
 sp\;\nCONFERENCE TEDDY REX\n\nLes horaires ne sont pas encore disponibles\
 , mais plusieurs conférences seront faites entre 14h et 17h\nConférence 
 : "Qui veut gagner du Pognon"\nCette conférence vous donnera toutes les c
 lés des droits et des devoirs des artistes\,\nJe peux vous affirmer que v
 ous gagnerez de l'argent sur bien des points abordé\nAmateurs ou professi
 onnels ?\nGuso\, frais\, facture ou mémoire de règlement.\ncongés pay
 és\, retraite\, formation.\nquel statut ? société ou auto entrepreneur\
 ,\nassociation\, producteur de spectacle\, etc....\nConférence : "VEND’
 ANGE"\nCette conférence vous donnera plein d'astuces sur sur les plaquett
 es\, les mailings\, la façon de prendre contact\, bref comment se vendre 
 ....\nFacebook\, internet\nmailings\, plaquettes\,\nrestaurants\, producte
 urs\,\nmariages\, anniversaires\, etc....\n&nbsp\;\n&nbsp\;
ATTACH;FMTTYPE=image/jpeg:https://animagique.fr/wp-content/uploads/2020/01
 /IMG_20171022_101016-scaled.jpg
CATEGORIES:conférence,reunions
LOCATION:Maison des syndicats\, 5 place de la gare de l'état\, Nantes\, 44
 200\, France
X-APPLE-STRUCTURED-LOCATION;VALUE=URI;X-ADDRESS=5 place de la gare de l'ét
 at\, Nantes\, 44200\, France;X-APPLE-RADIUS=100;X-TITLE=Maison des syndica
 ts:geo:0,0
END:VEVENT
END:VCALENDAR