BEGIN:VCALENDAR
VERSION:2.0
PRODID:-//wp-events-plugin.com//7.2.3.1//EN
BEGIN:VEVENT
UID:155@animagique.fr
DTSTART:20251031T193000Z
DTEND:20251031T230000Z
DTSTAMP:20251024T184822Z
URL:https://animagique.fr/evenements/halloween-a-carquefood-scene-et-close
 -up/
SUMMARY:Halloween Carquefood scène et close-up
DESCRIPTION:Venez vous amuser avec nous.\nVenez soutenir les magiciens de s
 cène.\nVenez présenter vos tours en close-up\nauprès d'un vrai public d
 e moldus\, amical et bienveillant.\n\nUn repas gratuit est prévu pour tou
 s ceux qui participent\n\nLe spectacle de scène sera assuré entre autres
  par Claude\, qui a prévu les aiguilles\, lames de rasoirs\, etc
ATTACH;FMTTYPE=image/jpeg:https://animagique.fr/wp-content/uploads/2018/10
 /jack-o-lanterns-3735386_1920.jpg
CATEGORIES:spectacles
END:VEVENT
END:VCALENDAR