BEGIN:VCALENDAR
VERSION:2.0
PRODID:-//wp-events-plugin.com//7.2.3.1//EN
BEGIN:VEVENT
UID:88@animagique.fr
DTSTART:20220204T200000Z
DTEND:20220204T234500Z
DTSTAMP:20220105T204628Z
URL:https://animagique.fr/evenements/repetitions-spectacle-4-fevrier-2022/
SUMMARY:Répétitions spectacle 4 février 2022
DESCRIPTION:Maison des syndicats\nde 20h00 à 23h45\n5 place de la gare de 
 l'état\n44200 île de Nantes\nOn répète ce qui est possible\,\nOn organ
 ise les responsabilités de chacun.\nOn assigne des personnes\, à l'entr
 ée\, la mise en place de la salle\, à la sono\, aux lumières\, etc..\nO
 n a besoin d'un maximum de personnes\n pour l’installation des chaises\
 , de la sono\, des projecteurs\, de la scène etc.\nSVP inscrivez vous sur
  le site\, même simplement pour mettre en place les chaises.
CATEGORIES:reunions,spectacles
LOCATION:Maison des syndicats\, 5 place de la gare de l'état\, Nantes\, 44
 200\, France
GEO:47.204228;-1.559603
X-APPLE-STRUCTURED-LOCATION;VALUE=URI;X-ADDRESS=5 place de la gare de l'ét
 at\, Nantes\, 44200\, France;X-APPLE-RADIUS=100;X-TITLE=Maison des syndica
 ts:geo:47.204228,-1.559603
END:VEVENT
END:VCALENDAR