BEGIN:VCALENDAR
VERSION:2.0
PRODID:-//wp-events-plugin.com//7.2.3.1//EN
BEGIN:VEVENT
UID:144@animagique.fr
DTSTART:20250121T193000Z
DTEND:20250121T223000Z
DTSTAMP:20250108T085811Z
URL:https://animagique.fr/evenements/reunion-21-janvier-participation-pasc
 al-marc/
SUMMARY:Réunion 21 janvier participation Pascal Marc
DESCRIPTION:Assemblée Générale 2024/2025\net réunion \n(thème Magie cl
 ose-up préparation scène ouverte Carquefood )\nLieu:\nMaison des syndica
 ts\, Salle C\, 20h30\n5 place de la gare de l'état\n44000 île de Nantes
ATTACH;FMTTYPE=image/jpeg:https://animagique.fr/wp-content/uploads/2025/01
 /LivrePascalMarc0.avif
CATEGORIES:reunions
LOCATION:Maison des syndicats\, 5 place de l'état\, Nantes\, 44000\, Franc
 e
GEO:47.2042282;-1.5596030000000383
X-APPLE-STRUCTURED-LOCATION;VALUE=URI;X-ADDRESS=5 place de l'état\, Nantes
 \, 44000\, France;X-APPLE-RADIUS=100;X-TITLE=Maison des syndicats:geo:47.2
 042282,-1.5596030000000383
END:VEVENT
END:VCALENDAR