BEGIN:VCALENDAR
VERSION:2.0
PRODID:-//wp-events-plugin.com//7.2.3.1//EN
BEGIN:VEVENT
UID:139@animagique.fr
DTSTART:20241024T203000Z
DTEND:20241024T230000Z
DTSTAMP:20241017T120100Z
URL:https://animagique.fr/evenements/reunion-24-octobre-theme-balles-mouss
 e/
SUMMARY:Reunión 24 octobre thème Balles mousse
DESCRIPTION:Les balles mousses \, les routines classiques\, les changements
  de couleurs\,\nComment préparer ses balles mousses\, retirer l'intérieu
 r\,\nles trucages pour changement de couleur\, duplication\, La seringue d
 u Boulanger\,\nla routine des tomates Claude Rix/coussinets de la Princess
 e de Revzani\nLa routine des bols de McBride\, les ding Dong\, les cubes\,
  les mains\, les lapins etc...
ATTACH;FMTTYPE=image/jpeg:https://animagique.fr/wp-content/uploads/2024/09
 /BallesMousse.jpg
CATEGORIES:reunions
LOCATION:Manu\, 10bis boulevard de Stalingrad\, Nantes\, International\, 44
 00\, France
GEO:47.21945119999999;-1.535393900000031
X-APPLE-STRUCTURED-LOCATION;VALUE=URI;X-ADDRESS=10bis boulevard de Stalingr
 ad\, Nantes\, International\, 4400\, France;X-APPLE-RADIUS=100;X-TITLE=Man
 u:geo:47.21945119999999,-1.535393900000031
END:VEVENT
END:VCALENDAR