BEGIN:VCALENDAR
VERSION:2.0
PRODID:-//wp-events-plugin.com//7.2.3.1//EN
BEGIN:VEVENT
UID:154@animagique.fr
DTSTART:20251007T200000Z
DTEND:20251007T230000Z
DTSTAMP:20250929T142406Z
URL:https://animagique.fr/evenements/reunion-3/
SUMMARY:Réunion
DESCRIPTION:La prochaine réunion AnimA aura lieu mardi 7 octobre à 20h
 00.\nATTENTION nouvelle Adresse :\nMAGMAA  food hall\nà deux pas des Mac
 hines de l'île\n15 Rue La Noue Bras de Fer\n44000 Nantes\n\n	20h00 – 20
 h30 Le Président parle du congrès FFAP de Troyes.\nOn parle des conf
 érenciers à venir et de la préparation scène ouverte novembre.\n	20h30
  – 21h00 : Bitrak Ar Sizhun (truc de la semaine).\nImportant cette ann
 ée une demi-heure des réunions sera consacrée systématiquement à la 
 présentation de tours\, si vous ne voulez pas subir une demi-heure de Cla
 ude et de ses tours\, veuillez vous inscrire par avance\n	21h00 – 22h00 
 : Thème de la soirée : Les petits paquets de cartes\n	22h00 -  23h00 
 :Les échanges magiques\nAmener vos tapis\, vos cartes\, etc… discussion
  en petit comité\n\n
ATTACH;FMTTYPE=image/jpeg:https://animagique.fr/wp-content/uploads/2024/02
 /card_warp.png
CATEGORIES:reunions
LOCATION:Magmaa\, 15 Rue La Noue Bras de Fer\, Nantes\, 44000\, France
GEO:47.207108;-1.559563
X-APPLE-STRUCTURED-LOCATION;VALUE=URI;X-ADDRESS=15 Rue La Noue Bras de Fer\
 , Nantes\, 44000\, France;X-APPLE-RADIUS=100;X-TITLE=Magmaa:geo:47.207108,
 -1.559563
END:VEVENT
END:VCALENDAR