BEGIN:VCALENDAR
VERSION:2.0
PRODID:-//wp-events-plugin.com//7.2.3.1//EN
BEGIN:VEVENT
UID:148@animagique.fr
DTSTART:20250424T200000Z
DTEND:20250424T223000Z
DTSTAMP:20250412T065149Z
URL:https://animagique.fr/evenements/reunion-carquefood/
SUMMARY:Réunion Carquefood
DESCRIPTION:Bonjour à tous et toutes\,\nLa prochaine réunion AnimA aura l
 ieu  JEUDI 24 avril à 20h.\nAdresse : CARQUEFOOD\, Les corners\n28 bd A
 mpère 44470 CARQUEFOU\nPARKING GRATUIT EN FACE\n\n	20h – 20h15 Le Pré
 sident fait le point sur la conférence Gabriel Werlen\n	20h15 – 21h00 :
  Bitrak Ar Sizhun (truc de la semaine) de  Claude\nOn cherche des volo
 ntaires pour les B.A.S. des mercredis et jeudis suivants :\n(merci de s
 ’inscrire par mail)\n	21h00 – 22h00 : Thème de la soirée : Mathém
 agie \nLes forçage mathématiques de cartes\, de nombres\, \nLes tours 
 de carte automatique\,\nLes carrés magiques\,\nLes énigmes mathémagique
 s\nLe principe BOB HUMMER bonneteau mathématique\netc...\n	22h00-22h30 
 : Les échanges magiques\n\nD’ici là\, à Jeudi 24/04/25
ATTACH;FMTTYPE=image/jpeg:https://animagique.fr/wp-content/uploads/2025/04
 /CarreMagique2.jpg
CATEGORIES:reunions
LOCATION:Carquefood\, 28 bd Ampère 44470 CARQUEFOU\, Carquefou\, 44470\, F
 rance
GEO:47.301265;-1.502637
X-APPLE-STRUCTURED-LOCATION;VALUE=URI;X-ADDRESS=28 bd Ampère 44470 CARQUEF
 OU\, Carquefou\, 44470\, France;X-APPLE-RADIUS=100;X-TITLE=Carquefood:geo:
 47.301265,-1.502637
END:VEVENT
END:VCALENDAR