BEGIN:VCALENDAR
VERSION:2.0
PRODID:-//wp-events-plugin.com//7.2.3.1//EN
BEGIN:VEVENT
UID:7@animagique.fr
DTSTART:20181213T190000Z
DTEND:20181213T220000Z
DTSTAMP:20210129T080101Z
URL:https://animagique.fr/evenements/reunion-du-13-decembre-2018/
SUMMARY:Réunion du 13 décembre 2018
DESCRIPTION:﻿Bonjour à tous et toutes\,\n\nLa prochaine réunion AnimA a
 ura lieu  Jeudi 13 décembre à 20h00.\n\nAdresse : Salle MANU Salle Com
 mission 1 étage 1-10 bis boulevard Stalingrad-44000 Nantes\n\n\n\n\n20h 
 – 20h45 Le Président parle du site et du Forum ouvert pour les membres\
 , préparation de la conférence de Boris Wild\navancée le 18 janvier du 
 fait du spectacle Eric Antoine au Zenith le 25 janvier.\n(A cette occasio
 n l'association a organisée une rencontre avec Eric)\n\n\n\n20h45 - 21h00
  : Bitrak Ar Sizhun (truc de la semaine) Romain\, Axel\, Charles-Eric\,
  Maxime nous parlent de FI ….\nOn cherche des volontaires pour les B.A.S
 . des mercredis et jeudi :\nje vous rappelle qu'il est d'usage que tout l
 e monde présente quelque chose dans le BAS au moins une fois par trimestr
 e.\n(merci de s'inscrire sur le site dans le menu connexions)\n\n21h00 - 
 22h30 : Thème de la soirée : Fil Invisible !\n\n\nClaude (oui c'est m
 oi) vous expliquera comment faire un nœud pour faire  une boucle.\n\nVen
 on de Magie Factory\, Invisible de Savina\, Spider Pen\, Vectra\, Wax\, C
 opin etc....\n\n&nbsp\;\n\n\n\n&nbsp\;
CATEGORIES:reunions
LOCATION:Manu\, 10bis boulevard de Stalingrad\, Nantes\, International\, 44
 00\, France
GEO:47.21945119999999;-1.535393900000031
X-APPLE-STRUCTURED-LOCATION;VALUE=URI;X-ADDRESS=10bis boulevard de Stalingr
 ad\, Nantes\, International\, 4400\, France;X-APPLE-RADIUS=100;X-TITLE=Man
 u:geo:47.21945119999999,-1.535393900000031
END:VEVENT
END:VCALENDAR