BEGIN:VCALENDAR
VERSION:2.0
PRODID:-//wp-events-plugin.com//7.2.3.1//EN
BEGIN:VEVENT
UID:13@animagique.fr
DTSTART:20190213T193000Z
DTEND:20190213T223000Z
DTSTAMP:20210129T080115Z
URL:https://animagique.fr/evenements/reunion-du-13-fevrier-2019/
SUMMARY:Réunion de mi Février 2019
DESCRIPTION:Bonjour à tous et toutes\,\n\nLa prochaine réunion AnimA aura
  lieu  Mercredi 13 Février 2019 à 20h30.\n\nAdresse : MANU salle B 1
 er étage 1-10 bis boulevard Stalingrad-44000 Nantes\n\n\n&nbsp\;\n\n20h 
 – 20h45 Le Secrétaire parle de la conférence de Boris Wild et du spec
 tacle Eric Antoine au Zenith le 25 janvier.\n(A cette occasion l'associat
 ion à rencontré  Eric Antoine) préparation de la conférence Shoot OG
 AWA\n\n&nbsp\;\n\n20h45 - 21h00 : Bitrak Ar Sizhun (truc de la semaine)
  Paul \, Michel\, Romain ….\nOn cherche des volontaires pour les B.A.S.
  des mercredis et jeudi :\nje vous rappelle qu'il est d'usage que tout le
  monde présente quelque chose dans le BAS au moins une fois par trimestre
 .\n(merci de s'inscrire sur le site dans le menu connexions)\n\n21h00 - 2
 2h30 : Thème de la soirée : Les techniques liés au Chapelet !\n\n\n\
 n\nHannibal (oui c'est Paul) vous expliquera des méthodes pour faire un
 e fausse coupe \, un faux mélange\, et récupérer sous les yeux des spec
 tateurs son chapelet\, etc....\n\nTechniques de Tamariz  (mnémonica)\, t
 echniques de Patrick DESSI\, Vincent Hedan\, Aronson etc....\n\n&nbsp\;\n\
 n&nbsp\;\n\n&nbsp\;\n\n&nbsp\;
ATTACH;FMTTYPE=image/jpeg:https://animagique.fr/wp-content/uploads/2018/10
 /Dessi-P.jpg
CATEGORIES:reunions
LOCATION:Manu\, 10bis boulevard de Stalingrad\, Nantes\, International\, 44
 00\, France
GEO:47.21945119999999;-1.535393900000031
X-APPLE-STRUCTURED-LOCATION;VALUE=URI;X-ADDRESS=10bis boulevard de Stalingr
 ad\, Nantes\, International\, 4400\, France;X-APPLE-RADIUS=100;X-TITLE=Man
 u:geo:47.21945119999999,-1.535393900000031
END:VEVENT
END:VCALENDAR