BEGIN:VCALENDAR
VERSION:2.0
PRODID:-//wp-events-plugin.com//7.2.3.1//EN
BEGIN:VEVENT
UID:15@animagique.fr
DTSTART:20190227T193000Z
DTEND:20190227T223000Z
DTSTAMP:20210129T080122Z
URL:https://animagique.fr/evenements/reunion-fin-de-mois-fevrier-2019/
SUMMARY:Réunion fin de mois fevrier 2019
DESCRIPTION:Bonjour à tous et toutes\,\n\nLa prochaine réunion AnimA aura
  lieu  Mercredi 27 Fevrier 2019 à 20h30.\nExceptionnellement un mercredi
  au lieu habituellement\nd'un jeudi (problème de salle disponible) \n\
 nAdresse : MANU salle B 1er étage 1-10 bis boulevard Stalingrad-44000 Na
 ntes\n\n\n&nbsp\;\n\n20h30 – 20h45 Le Secrétaire parle de la  prépara
 tion de la conférence Shoot OGAWA\n\n&nbsp\;\n\n20h45 - 21h00 : Bitrak 
 Ar Sizhun (truc de la semaine) Paul ….\nOn cherche des volontaires pour
  les B.A.S. des mercredis et jeudi :\nje vous rappelle qu'il est d'usage 
 que tout le monde présente quelque chose dans le BAS au moins une fois pa
 r trimestre.\n(merci de s'inscrire sur le site dans le menu connexions)\n\
 n21h00 - 22h30 : Thème de la soirée : Les gobelets !\n\n\n\n\nHannib
 al (oui c'est Paul) vous expliquera des méthodes pour faire un faux dé
 pôts\, récupérer la balle sous les yeux des spectateurs\, etc....\n\nTe
 chniques de Williamson\, techniques de Duvivier\, Ammar etc....
ATTACH;FMTTYPE=image/jpeg:https://animagique.fr/wp-content/uploads/2019/02
 /mgomall.jpg
CATEGORIES:reunions
LOCATION:Manu\, 10bis boulevard de Stalingrad\, Nantes\, International\, 44
 00\, France
GEO:47.21945119999999;-1.535393900000031
X-APPLE-STRUCTURED-LOCATION;VALUE=URI;X-ADDRESS=10bis boulevard de Stalingr
 ad\, Nantes\, International\, 4400\, France;X-APPLE-RADIUS=100;X-TITLE=Man
 u:geo:47.21945119999999,-1.535393900000031
END:VEVENT
END:VCALENDAR