BEGIN:VCALENDAR
VERSION:2.0
PRODID:-//wp-events-plugin.com//7.2.3.1//EN
BEGIN:VEVENT
UID:16@animagique.fr
DTSTART:20190328T190000Z
DTEND:20190328T223000Z
DTSTAMP:20210129T080127Z
URL:https://animagique.fr/evenements/reunion-fin-mars/
SUMMARY:Réunion fin Mars
DESCRIPTION:La prochaine réunion aura lieu le \nSalle Commission 2 étage
  1 La Manu\nLe jeudi 28/03/2019 – de 20:00 à  23:30\n\nLe thème sera 
 « les billets de banque » :\nProduction\, téléportation\, change de 
 valeur\, divination de numéro de série\, etc… Il y a de quoi faire ave
 c cet objet connu\, qui attire toujours l’attention. Vous nous montrerez
  comment votre routine est la première étape d’une série qui conduira
  le billet du spectateur dans votre chapeau !\n
ATTACH;FMTTYPE=image/jpeg:https://animagique.fr/wp-content/uploads/2019/03
 /chapeau-plein-de-billets-de-1000-CHF-1024x630.jpg
CATEGORIES:reunions
LOCATION:Manu\, 10bis boulevard de Stalingrad\, Nantes\, International\, 44
 00\, France
GEO:47.21945119999999;-1.535393900000031
X-APPLE-STRUCTURED-LOCATION;VALUE=URI;X-ADDRESS=10bis boulevard de Stalingr
 ad\, Nantes\, International\, 4400\, France;X-APPLE-RADIUS=100;X-TITLE=Man
 u:geo:47.21945119999999,-1.535393900000031
END:VEVENT
END:VCALENDAR