BEGIN:VCALENDAR
VERSION:2.0
PRODID:-//wp-events-plugin.com//7.2.3.1//EN
BEGIN:VEVENT
UID:6@animagique.fr
DTSTART:20181121T193000Z
DTEND:20181121T223000Z
DTSTAMP:20210328T071201Z
URL:https://animagique.fr/evenements/reunion-fin-novembre-2018/
SUMMARY:Réunion fin novembre 2018
DESCRIPTION:﻿Bonjour à tous et toutes\,\n\nLa prochaine réunion AnimA a
 ura lieu  Mercredi 21 novembre à 20h30.\n\nAdresse : Salle MANU 1er é
 tage  salle B-10 bis boulevard Stalingrad-44000 Nantes\n\n\n20h – 20h45
  Le Président parle du site et du Forum ouvert pour les membres\, compte 
 rendu de l'atelier/conférence de Gilbus\n\n20h45 - 21h00 : Bitrak Ar Si
 zhun (truc de la semaine) de  Martine pourra nous parler de la magie cont
 ée ….\nOn cherche des volontaires pour les B.A.S. des mercredis et jeu
 di :\nje vous rappelle qu'il est d'usage que tout le monde présente quelq
 ue chose dans le BAS au moins une fois par trimestre.\n(merci de s'inscrir
 e sur le site dans le menu connexions)\n\n21h00 - 22h30 : Thème de la s
 oirée : Pièces !\nClaude (oui c'est moi) vous parlera des pièces truq
 uées.\n\nLe 3 fly avec des pièces truquées\n\nhttps://www.youtube.com/w
 atch?v=flKLlcRJA18\n\nLe 3 fly sans pièces truquées\n\nhttps://www.youtu
 be.com/watch?v=vBHi57hI98U\n\n&nbsp\;\n\n&nbsp\;\n\n22h30-23h : Les éch
 anges magiques\n\nD'ici là\, à Mercredi 21/11/2018\nMagicalement\n\nClau
 de\n\n&nbsp\;\n\n&nbsp\;\n\n&nbsp\;
CATEGORIES:reunions
LOCATION:Manu\, 10bis boulevard de Stalingrad\, Nantes\, International\, 44
 00\, France
GEO:47.21945119999999;-1.535393900000031
X-APPLE-STRUCTURED-LOCATION;VALUE=URI;X-ADDRESS=10bis boulevard de Stalingr
 ad\, Nantes\, International\, 4400\, France;X-APPLE-RADIUS=100;X-TITLE=Man
 u:geo:47.21945119999999,-1.535393900000031
END:VEVENT
END:VCALENDAR