BEGIN:VCALENDAR
VERSION:2.0
PRODID:-//wp-events-plugin.com//7.2.3.1//EN
BEGIN:VEVENT
UID:5@animagique.fr
DTSTART:20181025T190000Z
DTEND:20181025T220000Z
DTSTAMP:20210129T080048Z
URL:https://animagique.fr/evenements/reunion-fin-octobre-2018-2/
SUMMARY:Réunion fin octobre 2018
DESCRIPTION:Bonjour à tous et toutes\,\n\nLa prochaine réunion AnimA aura
  lieu  JEUDI 25 octobre à 20h00.\n\nAdresse : Salle MANU 1er étage C
 om2-10 bis boulevard Stalingrad-44000 Nantes\n\n\n20h – 20h45 Le Présid
 ent parle du site et du Forum ouvert pour les membres\, un certain nombre 
 de nouvelles fonctions sont apparu sur le site\, l’accès à des vidéos
  pour les ﻿visiteurs\, mais aussi des vidéos privés pour les membres (
 si vous avez du matériel qui peut intéresser les membres Youtube ou autr
 es je peux le mettre en ligne)\nsinon un Forum vous permet de proposer des
  thèmes et d'en discuter en ligne avec tous les membres.\n\n20h45 - 21h00
  : Bitrak Ar Sizhun (truc de la semaine) de  Claude ou/et Paul ….\n
 On cherche des volontaires pour les B.A.S. des mercredis et jeudi :\nje v
 ous rappelle qu'il est d'usage que tout le monde présente quelque chose d
 ans le BAS au moins une fois par trimestre.\n(merci de s'inscrire sur le s
 ite dans le menu connexions)\n\n21h00 - 22h30 : Thème de la soirée :
  Halloween !\nIl était prévu les pièces mais comme le 31 octobre c'est
  Halloween\, j'ai reporté "les pièces" au mercredi 21 novembre.\nOn peut
  décliner Halloween sur beaucoup de genre.\n\nClaude (oui c'est moi) vous
  parlera du fakirisme et vous présentera comment se couper le pouce (vrai
  sang) et toutes les techniques des fakirs utilisable encore de nos jours.
  (aiguille à travers le bras\, etc...)\, On peut parler de la magie du co
 rps.\nMartine pourra nous parler de la magie contée qui se prête bien à
  Halloween. On peut parler de la magie bizarre\, aussi tout des touchs à 
 distance.\nSi parmi vous certains ont des couteaux à travers le bras\, gu
 illotine\, araignées\, citrouille en mousse\, mains et doigts coupés 'si
  vous avez un Bras « Freaky Body Illusions » c'est encore mieux....\n\
 n22h30-23h : Les échanges magiques\n\nD'ici là\, à Jeudi 25/10/2018\n
 Magicalement\n\nClaude\n\nhttps://www.youtube.com/watch?v=6UXbZ3B4340\n\n&
 nbsp\;\n\n&nbsp\;
CATEGORIES:reunions
LOCATION:Manu\, 10bis boulevard de Stalingrad\, Nantes\, International\, 44
 00\, France
GEO:47.21945119999999;-1.535393900000031
X-APPLE-STRUCTURED-LOCATION;VALUE=URI;X-ADDRESS=10bis boulevard de Stalingr
 ad\, Nantes\, International\, 4400\, France;X-APPLE-RADIUS=100;X-TITLE=Man
 u:geo:47.21945119999999,-1.535393900000031
END:VEVENT
END:VCALENDAR