BEGIN:VCALENDAR
VERSION:2.0
PRODID:-//wp-events-plugin.com//7.2.3.1//EN
BEGIN:VEVENT
UID:141@animagique.fr
DTSTART:20241114T203000Z
DTEND:20241114T233000Z
DTSTAMP:20241104T153222Z
URL:https://animagique.fr/evenements/reunion-jeudi-7-nov-carquefou-2/
SUMMARY:Reunion jeudi 14 nov. Carquefou
DESCRIPTION:Bonjour à tous et toutes\,\nLa prochaine réunion AnimA aura l
 ieu  JEUDI 14 nov. à 20h30.\nAdresse : CARQUEFOOD\, La Halle à manger 
 \n28 bd Ampère 44470 CARQUEFOU\n20h30 – 20h45 \nLe Président parle de 
 la venue de Benoit Campana le 22 novembre\, mais aussi\, depuis le temp
 s où je vous rabâche les oreilles de préparer un spectacle AnimA pour
  2025\, je propose qu'il soit basé sur les nouvelles technologies\, réal
 ité augmentée\, hologramme\, applications\, ce qui devrait éventuelleme
 nt inciter à la venue du public.\n21h00 - 22h30 : Thème de la soirée 
 : La réalité virtuelle et les hologrammes et les applications dans la ma
 gie
ATTACH;FMTTYPE=image/jpeg:https://animagique.fr/wp-content/uploads/2019/09
 /Attach2331_20190922_132656.jpg
CATEGORIES:reunions
LOCATION:Carquefood\, 28 bd Ampère 44470 CARQUEFOU\, Carquefou\, 44470\, F
 rance
GEO:47.301265;-1.502637
X-APPLE-STRUCTURED-LOCATION;VALUE=URI;X-ADDRESS=28 bd Ampère 44470 CARQUEF
 OU\, Carquefou\, 44470\, France;X-APPLE-RADIUS=100;X-TITLE=Carquefood:geo:
 47.301265,-1.502637
END:VEVENT
END:VCALENDAR