BEGIN:VCALENDAR
VERSION:2.0
PRODID:-//wp-events-plugin.com//7.2.3.1//EN
BEGIN:VEVENT
UID:146@animagique.fr
DTSTART:20250320T203000Z
DTEND:20250320T233000Z
DTSTAMP:20250308T091422Z
URL:https://animagique.fr/evenements/reunion-le-20-mars-theme-les-animaux/
SUMMARY:Réunion le 20 Mars thème les animaux
DESCRIPTION:Bonjour à tous et toutes\,\nLa prochaine réunion AnimA aura l
 ieu Jeudi 20 Mars 2025 à 20h30.\nAdresse :\nManufacture commission 1\,\n1
 0 bis Bd de Stalingrad\, \n44000 Nantes\n\n	20h30 – 20h45 Le Président 
 fait le point sur la conférence Mario Lopez et aussi du Salon des créat
 eurs\nnotamment Urbain et Gabriel Gascon\n	20h45 - 21h00 : Bitrak Ar Siz
 hun (truc de la semaine) de  Claude avec son Racoon ….\nOn cherche des
  volontaires pour les B.A.S. des mercredis et jeudis suivants :\n(merci d
 e s'inscrire par mail)\n\n\n	21h00 - 22h30 : Thème de la soirée : Les
  animaux réels où simulés \nClaude vous montre sa routine complète du
  Racoon\, avec la manipulation\, le système de Radiographie de Climax\nLe
  cœur en ballon qui s'allume et aussi le Racoon qui boit le verre de lait
  tout seul (fabrication maison).\nApparition de petits poissons qui nagent
  dans un gobelet\,\nApparition de poisson qui nage dans aquarium.\nApparit
 ion de papillon "vivant" dans un bocal.\nApparition d'un poussin dans le s
 ac à œuf (2 versions).\nOn parle des colombes et de leur apparition.\n	2
 2h30-23h : Les échanges magiques\n\nD'ici là\, à Jeudi\nMagicalement\
 nClaude\nNOTA: Pour ce garer voir la petite place à l'arrière dans la ru
 e de Coulmiers\nil ne ferme pas les barrières le soir.\n\n&nbsp\;
ATTACH;FMTTYPE=image/jpeg:https://animagique.fr/wp-content/uploads/2025/03
 /IMG_20211003_103016-scaled.jpg
CATEGORIES:reunions
LOCATION:Manu\, 10bis boulevard de Stalingrad\, Nantes\, International\, 44
 00\, France
GEO:47.21945119999999;-1.535393900000031
X-APPLE-STRUCTURED-LOCATION;VALUE=URI;X-ADDRESS=10bis boulevard de Stalingr
 ad\, Nantes\, International\, 4400\, France;X-APPLE-RADIUS=100;X-TITLE=Man
 u:geo:47.21945119999999,-1.535393900000031
END:VEVENT
END:VCALENDAR