BEGIN:VCALENDAR
VERSION:2.0
PRODID:-//wp-events-plugin.com//7.2.3.1//EN
BEGIN:VEVENT
UID:156@animagique.fr
DTSTART:20251106T203000Z
DTEND:20251106T233000Z
DTSTAMP:20251101T082149Z
URL:https://animagique.fr/evenements/reunion-maison-des-syndicats-theme-co
 rdes-anneaux/
SUMMARY:Réunion maison des syndicats thème cordes anneaux
DESCRIPTION:Bonjour à tous et toutes\,\nLa prochaine réunion AnimA aura l
 ieu  Jeudi 06 novembre à 20h30.\nAdresse : Maison des syndicats 5 place 
 de la gare\, île de Nantes 44000 Nantes\n\n20h – 20h45 Le Président pa
 rle d'Halloween au Carquefood\n20h45 - 21h00 : Bitrak Ar Sizhun (truc de
  la semaine) de  Claude  ….\nOn cherche des volontaires pour les B.A.S
 . des mercredis et jeudi :\nje vous rappelle qu'il est d'usage que tout l
 e monde présente quelque chose dans le BAS au moins une fois par trimestr
 e.\n(merci de s'inscrire sur le site dans le menu connexions)\n21h00 - 22
 h30 : Thème de la soirée : Cordes &amp\; Anneaux !\n
ATTACH;FMTTYPE=image/jpeg:https://animagique.fr/wp-content/uploads/2025/05
 /Coeurs.jpg
CATEGORIES:reunions
LOCATION:Maison des syndicats\, 5 place de l'état\, Nantes\, 44000\, Franc
 e
GEO:47.2042282;-1.5596030000000383
X-APPLE-STRUCTURED-LOCATION;VALUE=URI;X-ADDRESS=5 place de l'état\, Nantes
 \, 44000\, France;X-APPLE-RADIUS=100;X-TITLE=Maison des syndicats:geo:47.2
 042282,-1.5596030000000383
END:VEVENT
END:VCALENDAR