BEGIN:VCALENDAR
VERSION:2.0
PRODID:-//wp-events-plugin.com//7.2.3.1//EN
BEGIN:VEVENT
UID:157@animagique.fr
DTSTART:20251119T203000Z
DTEND:20251119T233000Z
DTSTAMP:20251106T090508Z
URL:https://animagique.fr/evenements/reunion-maison-des-syndicats-theme-me
 ntalisme/
SUMMARY:Réunion maison des syndicats thème mentalisme
DESCRIPTION:Bonjour à tous et toutes\,\nLa prochaine réunion AnimA aura l
 ieu  Mercredi 19 novembre à 20h30.\nAdresse : Maison des syndicats 5 pla
 ce de la gare de l'état\, île de Nantes 44000 Nantes\n\n20h – 20h45 Le
  Président parle d'Halloween au Carquefood\n20h45 - 21h00 : Bitrak Ar S
 izhun (truc de la semaine) de  Claude  ….\nOn cherche des volontaires 
 pour les B.A.S. des mercredis et jeudi :\nje vous rappelle qu'il est d'us
 age que tout le monde présente quelque chose dans le BAS au moins une foi
 s par trimestre.\n(merci de s'inscrire sur le site dans le menu connexions
 )\n21h00 - 22h30 : Thème de la soirée : Mentalisme !\n
ATTACH;FMTTYPE=image/jpeg:https://animagique.fr/wp-content/uploads/2025/04
 /KnowWay.jpg
CATEGORIES:reunions
LOCATION:Maison des Syndicats\, 5 place de la gare de l'état\, Nantes\, WE
  - Western Loire Valley\, 44000\, Pays de loire\, France
GEO:47.204228;-1.559603
X-APPLE-STRUCTURED-LOCATION;VALUE=URI;X-ADDRESS=5 place de la gare de l'ét
 at\, Nantes\, WE - Western Loire Valley\, 44000\, Pays de loire\, France;X
 -APPLE-RADIUS=100;X-TITLE=Maison des Syndicats:geo:47.204228,-1.559603
END:VEVENT
END:VCALENDAR