BEGIN:VCALENDAR
VERSION:2.0
PRODID:-//wp-events-plugin.com//7.2.3.1//EN
BEGIN:VEVENT
UID:37@animagique.fr
DTSTART:20191212T193000Z
DTEND:20191212T223000Z
DTSTAMP:20210129T080311Z
URL:https://animagique.fr/evenements/reunion-mi-decembre-2019/
SUMMARY:Réunion mi décembre 2019
DESCRIPTION:Bonjour à tous et toutes\,\nLa prochaine réunion AnimA aura
  lieu ce Jeudi 12 décembre à 20h00.\nAdresse : Salle MANU B 1er étage
 -10 bis boulevard Stalingrad-44000 Nantes\n\n\n	20h – 20h45 Le Secrét
 aire parle des conférences : \n Chris Rawlins mentaliste Anglais qui a e
 u lieu le lundi 25 Novembre\ncompte rendu des spectacles de fin d'année\,
  préparation spectacle du 7 Juin 2020\n	20h45 – 21h00 : Bitrak Ar Siz
 hun (truc de la semaine) de  Claude….\nOn cherche des volontaires pour
  les B.A.S. des mercredis et jeudis suivants :\n(merci de s’inscrire 
 par mail)\n	21h00 – 22h30 : Thème de la soirée : Une histoire de N
 oel !\nLes tours que vous comptez préparer pour les fêtes\n	22h30-23h :
  Les échanges magiques\n\nD’ici là\, à Jeudi\nMagicalement\nClaude
CATEGORIES:reunions
LOCATION:Manu\, 10bis boulevard de Stalingrad\, Nantes\, International\, 44
 00\, France
GEO:47.21945119999999;-1.535393900000031
X-APPLE-STRUCTURED-LOCATION;VALUE=URI;X-ADDRESS=10bis boulevard de Stalingr
 ad\, Nantes\, International\, 4400\, France;X-APPLE-RADIUS=100;X-TITLE=Man
 u:geo:47.21945119999999,-1.535393900000031
END:VEVENT
END:VCALENDAR