BEGIN:VCALENDAR
VERSION:2.0
PRODID:-//wp-events-plugin.com//7.2.3.1//EN
BEGIN:VEVENT
UID:39@animagique.fr
DTSTART:20200116T193000Z
DTEND:20200116T223000Z
DTSTAMP:20210129T080316Z
URL:https://animagique.fr/evenements/reunion-mi-janvier-2020/
SUMMARY:Réunion mi janvier 2020
DESCRIPTION:Bonjour à tous et toutes\,\nLa prochaine réunion AnimA aura
  lieu ce Jeudi 16 janvier à 20h00.\nAdresse : Salle MANU B 1er étage c
 ommission 2-10 bis boulevard Stalingrad-44000 Nantes\n\n\n	20h30 – 20h45
  Le Secrétaire parle des conférences : \n Chris Rawlins mentaliste Ang
 lais qui a eu lieu le lundi 25 Novembre\ncompte rendu des spectacles de fi
 n d'année\, préparation spectacle du 7 Juin 2020\n	20h45 – 21h00 : B
 itrak Ar Sizhun (truc de la semaine) de  Claude….\nOn cherche des volo
 ntaires pour les B.A.S. des mercredis et jeudis suivants :\n(merci de s
 ’inscrire par mail)\n	21h00 – 22h30 : Thème de la soirée : Les to
 urs de scène !\nLes tours que vous comptez préparer pour les spectacles
 \n	22h30-23h : Les échanges magiques\n\nD’ici là\, à Jeudi\nMagical
 ement\nClaude
CATEGORIES:reunions
LOCATION:Manu\, 10bis boulevard de Stalingrad\, Nantes\, International\, 44
 00\, France
GEO:47.21945119999999;-1.535393900000031
X-APPLE-STRUCTURED-LOCATION;VALUE=URI;X-ADDRESS=10bis boulevard de Stalingr
 ad\, Nantes\, International\, 4400\, France;X-APPLE-RADIUS=100;X-TITLE=Man
 u:geo:47.21945119999999,-1.535393900000031
END:VEVENT
END:VCALENDAR