BEGIN:VCALENDAR
VERSION:2.0
PRODID:-//wp-events-plugin.com//7.2.3.1//EN
BEGIN:VEVENT
UID:35@animagique.fr
DTSTART:20191114T190000Z
DTEND:20191114T220000Z
DTSTAMP:20210129T080301Z
URL:https://animagique.fr/evenements/reunion-mi-novembre-2019/
SUMMARY:Réunion mi novembre 2019
DESCRIPTION:Bonjour à tous et toutes\,\nLa prochaine réunion AnimA aura l
 ieu ce Jeudi 14 novembre à 20h00.\nAdresse : Salle MANU B 1er étage-10 
 bis boulevard Stalingrad-44000 Nantes\n\n\n	20h – 20h45 Le Secrétaire p
 arle du congrès FFAP de Mandelieu avec Hemant\, Otnac on  parle des conf
 érences :\nAllan Ackerman et Vincent Hedan et de la futur conférence C
 hris Rawlins mentaliste Anglais qui aura lieu le lundi 25 Novembre\ncompt
 e rendu du close-up à Angers\, préparation spectacle Juin 2020\n	20h45 -
  21h00 : Bitrak Ar Sizhun (truc de la semaine) de  Paul ….\nOn cherch
 e des volontaires pour les B.A.S. des mercredis et jeudis suivants :\n(me
 rci de s'inscrire par mail)\n	21h00 - 22h30 : Thème de la soirée : U
 ne histoire d'Halloween et de Noel !\nLes tours que vous comptez préparer
  pour les fêtes\n	22h30-23h : Les échanges magiques\n\nD'ici là\, à 
 Jeudi\nMagicalement\nClaude
ATTACH;FMTTYPE=image/jpeg:https://animagique.fr/wp-content/uploads/2018/10
 /magicians.jpg
CATEGORIES:reunions
LOCATION:Manu\, 10bis boulevard de Stalingrad\, Nantes\, International\, 44
 00\, France
GEO:47.21945119999999;-1.535393900000031
X-APPLE-STRUCTURED-LOCATION;VALUE=URI;X-ADDRESS=10bis boulevard de Stalingr
 ad\, Nantes\, International\, 4400\, France;X-APPLE-RADIUS=100;X-TITLE=Man
 u:geo:47.21945119999999,-1.535393900000031
END:VEVENT
END:VCALENDAR