BEGIN:VCALENDAR
VERSION:2.0
PRODID:-//wp-events-plugin.com//7.2.3.1//EN
BEGIN:VEVENT
UID:3@animagique.fr
DTSTART:20181010T190000Z
DTEND:20181010T220000Z
DTSTAMP:20210129T080042Z
URL:https://animagique.fr/evenements/reunion-mi-octobre-2018/
SUMMARY:Réunion mi octobre 2018
DESCRIPTION:Bonjour à tous et toutes\,\n\nLa prochaine réunion AnimA aura
  lieu ce mercredi 10 octobre à 20h00.\n\nAdresse : Salle MANU 1er ét
 age-10 bis boulevard Stalingrad-44000 Nantes\n﻿\n\n 	20h – 20h45 Le Pr
 ésident parle du congrès d'Arcachon des rencontres avec des Nantais Hema
 nt\, Otnac et Nestor Hato (qui à promis de passer nous voir)et on parle d
 es futurs conférences :\nle jeu Multi-effet avec un pilier de Virtual Ma
 gie Gilbus\, et la nouvelle conférence de Boris Wild qui parlera d'autres
  chose que les cartes.\n 	20h45 - 21h00 : Bitrak Ar Sizhun (truc de la s
 emaine) de  Claude ou/et Paul ….\nOn cherche des volontaires pour les
  B.A.S. des mercredis et jeudis suivants :\n(merci de s'inscrire par mail
 )\n 	21h00 - 22h30 : Thème de la soirée : Une histoire de chapelle !
 \nLes chapelets du plus simple jusqu'aux mémorisés\,\nCalculs (Si Stebbi
 ns\, C-PAP\, etc...)\nMnémotechnie (Brainstorm\, etc...)\nMémorisés (Mn
 emonica\, etc...)\nOn vous parle de Stay-stack\, Principe de Gilbreath et 
 du Rosary Deck.\nLes avantages et les inconvénients de chaque\, et des d
 émos des spécialistes Claude (c-pap) et Paul (Mnémonica)\n 	22h30-23h 
 : Les échanges magiques\n\nD'ici là\, à Mercredi\nMagicalement\n\nClau
 de
ATTACH;FMTTYPE=image/jpeg:https://animagique.fr/wp-content/uploads/2018/10
 /magicians.jpg
CATEGORIES:reunions
LOCATION:Manu\, 10bis boulevard de Stalingrad\, Nantes\, International\, 44
 00\, France
GEO:47.21945119999999;-1.535393900000031
X-APPLE-STRUCTURED-LOCATION;VALUE=URI;X-ADDRESS=10bis boulevard de Stalingr
 ad\, Nantes\, International\, 4400\, France;X-APPLE-RADIUS=100;X-TITLE=Man
 u:geo:47.21945119999999,-1.535393900000031
END:VEVENT
END:VCALENDAR