BEGIN:VCALENDAR
VERSION:2.0
PRODID:-//wp-events-plugin.com//7.2.3.1//EN
BEGIN:VEVENT
UID:87@animagique.fr
DTSTART:20220127T203000Z
DTEND:20220127T233000Z
DTSTAMP:20220127T075133Z
URL:https://animagique.fr/evenements/reunion/
SUMMARY:Réunion jeudi 27 janvier 2022 20h30
DESCRIPTION:Réunion physique:\nManufacture\, Salle B\, 20h30\n10Bis Boule
 vard de Stalingrad\n44000 Nantes\nRéunion à distance:\nLien de l'appel v
 idéo : https://meet.google.com/kmq-wsdt-kqs\nOu composez le : ‪(FR) +3
 3 1 87 40 49 34‬ CODE : ‪768 306 881‬#\nBonjour à tous et toutes\,\
 nLa prochaine réunion AnimA aura lieu ce Jeudi 27 janvier 2022 de 20h30
  à 23h30 \nAdresse : Salle MANU B 1er étage commission 2-10 bis boulev
 ard Stalingrad-44000 Nantes\n\n\n	20h30 – 20h45 Le Président parle de l
 'organisation du spectacle du 5 février\ncompte rendu  préparation spec
 tacle 5 Février 2022\n	20h45 – 21h00 : Bitrak Ar Sizhun (truc de la 
 semaine) de  Claude….\nOn cherche des volontaires pour les B.A.S. des
  mercredis et jeudis suivants :\n(merci de s’inscrire par mail)\n	21h00
  – 22h30 : Thème de la soirée :\nLes tours que vous comptez prépar
 er pour le spectacle\n	22h30-23h : Les échanges magiques\n\nD’ici là
 \, à mercredi\nMagicalement\nClaude
CATEGORIES:reunions
LOCATION:Manu\, 10bis boulevard de Stalingrad\, Nantes\, International\, 44
 00\, France
GEO:47.219451;-1.535394
X-APPLE-STRUCTURED-LOCATION;VALUE=URI;X-ADDRESS=10bis boulevard de Stalingr
 ad\, Nantes\, International\, 4400\, France;X-APPLE-RADIUS=100;X-TITLE=Man
 u:geo:47.219451,-1.535394
END:VEVENT
END:VCALENDAR