BEGIN:VCALENDAR
VERSION:2.0
PRODID:-//wp-events-plugin.com//7.2.3.1//EN
BEGIN:VEVENT
UID:9@animagique.fr
DTSTART:20190430T190000Z
DTEND:20190430T223000Z
DTSTAMP:20210129T080140Z
URL:https://animagique.fr/evenements/spectacle-luc-langevin-cite-des-congr
 es/
SUMMARY:Spectacle Luc Langevin (cité des congrès)
DESCRIPTION:LUC LANGEVIN – MAINTENANT DEMAIN\nSPECTACLE MARDI 30 AVRIL 20
 19 À 20H00\nA la Cité des Congrès de Nantes\n\nATTENTION: Achat groupé
  réservé uniquement AUX MEMBRES et limité dans le temps\nAprès avoir j
 oué au Casino de Paris et en tournée partout en France avec "Créateur d
 'illusions"\, LANGEVIN revient dans "Maintenant\, Demain" avec des numéro
 s de grande illusion encore plus bluffants\, démontrant qu'il est officie
 llement LA référence du renouveau du spectacle de magie. Alliant nouvell
 e technologie\, poésie et mentalisme\, il nous propulse dans un monde plu
 s futuriste tout en gardant sa passion pour les sciences et la magie au co
 eur du spectacle. Adieu paillettes\, lapins\, chapeaux et assistantes sci
 ées en deux\, et place à maintenant\, demain.\n\nFort de l’immense suc
 cès de son précédent spectacle Créateur d’illusions partout en Franc
 e avec 200 représentations\, Luc Langevin revient avec tout son nouveau s
 pectacle : Maintenant\, Demain. Star incontestée de l’illusionnisme au 
 Canada\, diplômé en sciences optiques et virtuose de la magie nouvelle\,
  Langevin voyage avec brio entre la science\, le rêve et l’illusion dan
 s une sorte de laboratoire qui fourmille de nouvelles technologies. Il nou
 s propulse dans un monde encore plus futuriste tout en gardant sa passion 
 pour les sciences et la magie au cœur d’un spectacle bluffant et bigrem
 ent stimulant.\n\n[embed]https://www.youtube.com/watch?v=IPRwxHLkZtk[/embe
 d]
ATTACH;FMTTYPE=image/jpeg:https://animagique.fr/wp-content/uploads/2018/12
 /vf_siteluclangevin-poster-spectacle-0210171507743806.jpg
CATEGORIES:spectacles
LOCATION:cite des congres\, 5 RUE DE VALMY\, Nantes\, 44000\, France
GEO:47.2131428;-1.5427025999999842
X-APPLE-STRUCTURED-LOCATION;VALUE=URI;X-ADDRESS=5 RUE DE VALMY\, Nantes\, 4
 4000\, France;X-APPLE-RADIUS=100;X-TITLE=cite des congres:geo:47.2131428,-
 1.5427025999999842
END:VEVENT
END:VCALENDAR