BEGIN:VCALENDAR
VERSION:2.0
PRODID:-//wp-events-plugin.com//7.2.3.1//EN
BEGIN:VEVENT
UID:34@animagique.fr
DTSTART:20200321T193000Z
DTEND:20200321T223000Z
DTSTAMP:20210129T080337Z
URL:https://animagique.fr/evenements/spectacle-vive-la-magie-21-mars-2020/
SUMMARY:Spectacle Vive la Magie 21 Mars 2020
DESCRIPTION:\n&nbsp\;\nAnimA sera au spectacle du samedi soir 20h30\nRencon
 tre avec les artistes après le spectacle\nFrançois NORMAG\, Mike CHAO\, 
 Jochen STELTER\, Nataly PEROVA\, \nTina LENERT\, Marko KARVO\, Chris TORRE
 NTE\, DION\nPour la métropole de Nantes\, les galas du Festival de Magi
 e se dérouleront tous au THEATRE LA FLEURIAYE qui se situe au 30 bd A
 mpère à CARQUEFOU (44470)\, à quelques minutes de Nantes en voiture 
 (ou en bus)
ATTACH;FMTTYPE=image/jpeg:https://animagique.fr/wp-content/uploads/2019/09
 /image.jpg
CATEGORIES:spectacles
LOCATION:THEATRE LA FLEURIAYE \, 30 bd Ampère\, Carquefou\, 44470\, Franc
 e
GEO:47.299745;-1.500792
X-APPLE-STRUCTURED-LOCATION;VALUE=URI;X-ADDRESS=30 bd Ampère\, Carquefou\,
  44470\, France;X-APPLE-RADIUS=100;X-TITLE=THEATRE LA FLEURIAYE :geo:47.2
 99745,-1.500792
END:VEVENT
END:VCALENDAR