BEGIN:VCALENDAR
VERSION:2.0
PRODID:-//wp-events-plugin.com//7.2.3.1//EN
BEGIN:VEVENT
UID:159@animagique.fr
DTSTART:20260131T090000Z
DTEND:20260131T140000Z
DTSTAMP:20260116T142615Z
URL:https://animagique.fr/evenements/vide-tiroirs-2026/
SUMMARY:Vide-Tiroirs 2026
DESCRIPTION:GRATUIT\nVenez vendre vos tours et livres que vous n'utilisez p
 lus.\nATTENTION Changement Adresse\nSalle A Maison des syndicats\n5 place 
 de la gare de l'etat\n44000 Nantes (île de Nantes)\n[gallery order="DESC"
  ids="5855\,5754\,5106\,5096\,5094\,2532\,2534\,2531\,2529\,2528\,2527\,25
 26\,2525\,2524\,2523"]
ATTACH;FMTTYPE=image/jpeg:https://animagique.fr/wp-content/uploads/2020/01
 /IMG_20200125_144713-scaled.jpg
CATEGORIES:Atelier,conférence
LOCATION:Maison des syndicats\, 5 place de l'état\, Nantes\, 44000\, Franc
 e
GEO:47.2042282;-1.5596030000000383
X-APPLE-STRUCTURED-LOCATION;VALUE=URI;X-ADDRESS=5 place de l'état\, Nantes
 \, 44000\, France;X-APPLE-RADIUS=100;X-TITLE=Maison des syndicats:geo:47.2
 042282,-1.5596030000000383
END:VEVENT
END:VCALENDAR